    BEGIN:VCALENDAR
VERSION:2.0
PRODID:-//Nordstad Turnverain - ECPv4.9.10//NONSGML v1.0//EN
CALSCALE:GREGORIAN
METHOD:PUBLISH
X-WR-CALNAME:Nordstad Turnverain
X-ORIGINAL-URL:https://www.nordstad-turnverain.lu
X-WR-CALDESC:Évènements pour Nordstad Turnverain
BEGIN:VTIMEZONE
TZID:UTC
BEGIN:STANDARD
TZOFFSETFROM:+0000
TZOFFSETTO:+0000
TZNAME:UTC
DTSTART:20170101T000000
END:STANDARD
END:VTIMEZONE
BEGIN:VEVENT
DTSTART;TZID=UTC:20171015T133000
DTEND;TZID=UTC:20171015T133000
DTSTAMP:20210421T220931
CREATED:20171013T190247Z
LAST-MODIFIED:20171013T190247Z
UID:2128-1508074200-1508074200@www.nordstad-turnverain.lu
SUMMARY:38e Coupe de Diekirch (Coupe Léon Keipes)
DESCRIPTION:
URL:https://www.nordstad-turnverain.lu/event/38e-coupe-de-diekirch-coupe-leon-keipes/
LOCATION:Coupe de Diekirch\, Hall Omnisports \, Diekirch
ATTACH;FMTTYPE=image/jpeg:https://www.nordstad-turnverain.lu/wp-content/uploads/2017/10/22228222_1893087764040465_4339072559319590791_n.jpg
END:VEVENT
END:VCALENDAR