    BEGIN:VCALENDAR
VERSION:2.0
PRODID:-//Nordstad Turnverain - ECPv4.9.10//NONSGML v1.0//EN
CALSCALE:GREGORIAN
METHOD:PUBLISH
X-WR-CALNAME:Nordstad Turnverain
X-ORIGINAL-URL:https://www.nordstad-turnverain.lu
X-WR-CALDESC:Évènements pour Nordstad Turnverain
BEGIN:VTIMEZONE
TZID:UTC
BEGIN:STANDARD
TZOFFSETFROM:+0000
TZOFFSETTO:+0000
TZNAME:UTC
DTSTART:20190101T000000
END:STANDARD
END:VTIMEZONE
BEGIN:VEVENT
DTSTART;TZID=UTC:20190615T080000
DTEND;TZID=UTC:20190616T170000
DTSTAMP:20211006T230357
CREATED:20180917T082347Z
LAST-MODIFIED:20180917T082347Z
UID:2531-1560585600-1560704400@www.nordstad-turnverain.lu
SUMMARY:Championnat des Sections masc.
DESCRIPTION:
URL:https://www.nordstad-turnverain.lu/event/championnat-des-sections-masc/
LOCATION:Festikus Belvaux
END:VEVENT
END:VCALENDAR