    BEGIN:VCALENDAR
VERSION:2.0
PRODID:-//Nordstad Turnverain - ECPv4.9.10//NONSGML v1.0//EN
CALSCALE:GREGORIAN
METHOD:PUBLISH
X-WR-CALNAME:Nordstad Turnverain
X-ORIGINAL-URL:https://www.nordstad-turnverain.lu
X-WR-CALDESC:Évènements pour Nordstad Turnverain
BEGIN:VTIMEZONE
TZID:UTC
BEGIN:STANDARD
TZOFFSETFROM:+0000
TZOFFSETTO:+0000
TZNAME:UTC
DTSTART:20190101T000000
END:STANDARD
END:VTIMEZONE
BEGIN:VEVENT
DTSTART;TZID=UTC:20190303T080000
DTEND;TZID=UTC:20190303T170000
DTSTAMP:20211006T230310
CREATED:20180917T081753Z
LAST-MODIFIED:20180917T081753Z
UID:2516-1551600000-1551632400@www.nordstad-turnverain.lu
SUMMARY:Championnat Individuels
DESCRIPTION:
URL:https://www.nordstad-turnverain.lu/event/championnat-individuels-2/
LOCATION:Hall sportif Bettembourg
END:VEVENT
END:VCALENDAR