    BEGIN:VCALENDAR
VERSION:2.0
PRODID:-//Nordstad Turnverain - ECPv4.9.10//NONSGML v1.0//EN
CALSCALE:GREGORIAN
METHOD:PUBLISH
X-WR-CALNAME:Nordstad Turnverain
X-ORIGINAL-URL:https://www.nordstad-turnverain.lu
X-WR-CALDESC:Évènements pour Nordstad Turnverain
BEGIN:VTIMEZONE
TZID:UTC
BEGIN:STANDARD
TZOFFSETFROM:+0000
TZOFFSETTO:+0000
TZNAME:UTC
DTSTART:20170101T000000
END:STANDARD
END:VTIMEZONE
BEGIN:VEVENT
DTSTART;TZID=UTC:20171209T080000
DTEND;TZID=UTC:20171209T170000
DTSTAMP:20210421T220951
CREATED:20170912T134844Z
LAST-MODIFIED:20170912T214132Z
UID:1882-1512806400-1512838800@www.nordstad-turnverain.lu
SUMMARY:Christmas Cup 2017
DESCRIPTION:
URL:https://www.nordstad-turnverain.lu/event/christmas-cup-2017/
LOCATION:Hall omnisports Echternach\, Echternach
END:VEVENT
END:VCALENDAR