    BEGIN:VCALENDAR
VERSION:2.0
PRODID:-//Nordstad Turnverain - ECPv4.9.10//NONSGML v1.0//EN
CALSCALE:GREGORIAN
METHOD:PUBLISH
X-WR-CALNAME:Nordstad Turnverain
X-ORIGINAL-URL:https://www.nordstad-turnverain.lu
X-WR-CALDESC:Évènements pour Nordstad Turnverain
BEGIN:VTIMEZONE
TZID:UTC
BEGIN:STANDARD
TZOFFSETFROM:+0000
TZOFFSETTO:+0000
TZNAME:UTC
DTSTART:20190101T000000
END:STANDARD
END:VTIMEZONE
BEGIN:VEVENT
DTSTART;TZID=UTC:20190428T080000
DTEND;TZID=UTC:20190428T170000
DTSTAMP:20211006T230335
CREATED:20180917T082029Z
LAST-MODIFIED:20180917T082029Z
UID:2525-1556438400-1556470800@www.nordstad-turnverain.lu
SUMMARY:Coupe de Consolation/d'Encouragement
DESCRIPTION:
URL:https://www.nordstad-turnverain.lu/event/coupe-de-consolation-dencouragement/
LOCATION:Hall omnisports Oberkorn\, Oberkorn
END:VEVENT
END:VCALENDAR