    BEGIN:VCALENDAR
VERSION:2.0
PRODID:-//Nordstad Turnverain - ECPv4.9.10//NONSGML v1.0//EN
CALSCALE:GREGORIAN
METHOD:PUBLISH
X-WR-CALNAME:Nordstad Turnverain
X-ORIGINAL-URL:https://www.nordstad-turnverain.lu
X-WR-CALDESC:Évènements pour Nordstad Turnverain
BEGIN:VTIMEZONE
TZID:UTC
BEGIN:STANDARD
TZOFFSETFROM:+0000
TZOFFSETTO:+0000
TZNAME:UTC
DTSTART:20180101T000000
END:STANDARD
END:VTIMEZONE
BEGIN:VEVENT
DTSTART;TZID=UTC:20180204T080000
DTEND;TZID=UTC:20180204T170000
DTSTAMP:20210421T220322
CREATED:20170912T213825Z
LAST-MODIFIED:20170912T213825Z
UID:1899-1517731200-1517763600@www.nordstad-turnverain.lu
SUMMARY:Coupe de Luxembourg 1/2 finales volet féminin
DESCRIPTION:
URL:https://www.nordstad-turnverain.lu/event/coupe-de-luxembourg-12-finales-volet-feminin/
LOCATION:Hall omnisports Echternach\, Echternach
END:VEVENT
END:VCALENDAR