    BEGIN:VCALENDAR
VERSION:2.0
PRODID:-//Nordstad Turnverain - ECPv4.9.10//NONSGML v1.0//EN
CALSCALE:GREGORIAN
METHOD:PUBLISH
X-WR-CALNAME:Nordstad Turnverain
X-ORIGINAL-URL:https://www.nordstad-turnverain.lu
X-WR-CALDESC:Évènements pour Nordstad Turnverain
BEGIN:VTIMEZONE
TZID:UTC
BEGIN:STANDARD
TZOFFSETFROM:+0000
TZOFFSETTO:+0000
TZNAME:UTC
DTSTART:20190101T000000
END:STANDARD
END:VTIMEZONE
BEGIN:VEVENT
DTSTART;TZID=UTC:20190427T080000
DTEND;TZID=UTC:20190427T170000
DTSTAMP:20211006T230324
CREATED:20180917T081945Z
LAST-MODIFIED:20180917T081945Z
UID:2522-1556352000-1556384400@www.nordstad-turnverain.lu
SUMMARY:Finales Coupe de Luxembourg
DESCRIPTION:
URL:https://www.nordstad-turnverain.lu/event/finales-coupe-de-luxembourg/
LOCATION:Hall omnisports Oberkorn\, Oberkorn
END:VEVENT
END:VCALENDAR