    BEGIN:VCALENDAR
VERSION:2.0
PRODID:-//Nordstad Turnverain - ECPv4.9.10//NONSGML v1.0//EN
CALSCALE:GREGORIAN
METHOD:PUBLISH
X-WR-CALNAME:Nordstad Turnverain
X-ORIGINAL-URL:https://www.nordstad-turnverain.lu
X-WR-CALDESC:Évènements pour Nordstad Turnverain
BEGIN:VTIMEZONE
TZID:UTC
BEGIN:STANDARD
TZOFFSETFROM:+0000
TZOFFSETTO:+0000
TZNAME:UTC
DTSTART:20170101T000000
END:STANDARD
END:VTIMEZONE
BEGIN:VEVENT
DTSTART;TZID=UTC:20170504T080000
DTEND;TZID=UTC:20170504T170000
DTSTAMP:20210421T221425
CREATED:20170504T180323Z
LAST-MODIFIED:20170504T180323Z
UID:497-1493884800-1493917200@www.nordstad-turnverain.lu
SUMMARY:First Meetup
DESCRIPTION:
URL:https://www.nordstad-turnverain.lu/event/first-meetup/
END:VEVENT
END:VCALENDAR