    BEGIN:VCALENDAR
VERSION:2.0
PRODID:-//Nordstad Turnverain - ECPv4.9.10//NONSGML v1.0//EN
CALSCALE:GREGORIAN
METHOD:PUBLISH
X-WR-CALNAME:Nordstad Turnverain
X-ORIGINAL-URL:https://www.nordstad-turnverain.lu
X-WR-CALDESC:Évènements pour Nordstad Turnverain
BEGIN:VTIMEZONE
TZID:UTC
BEGIN:STANDARD
TZOFFSETFROM:+0000
TZOFFSETTO:+0000
TZNAME:UTC
DTSTART:20170101T000000
END:STANDARD
END:VTIMEZONE
BEGIN:VEVENT
DTSTART;TZID=UTC:20170920T190000
DTEND;TZID=UTC:20170920T190000
DTSTAMP:20210421T220908
CREATED:20170912T230545Z
LAST-MODIFIED:20170912T230545Z
UID:1912-1505934000-1505934000@www.nordstad-turnverain.lu
SUMMARY:Sportleréierung Ettelbruck
DESCRIPTION:
URL:https://www.nordstad-turnverain.lu/event/sportlereierung-ettelbruck/
END:VEVENT
END:VCALENDAR